BEGIN:VCALENDAR
VERSION:2.0
PRODID:-//AIFAV - ECPv4.6.12//NONSGML v1.0//EN
CALSCALE:GREGORIAN
METHOD:PUBLISH
X-WR-CALNAME:AIFAV
X-ORIGINAL-URL:https://www.aifav.com.au
X-WR-CALDESC:Events for AIFAV
BEGIN:VEVENT
DTSTART;TZID=UTC+0:20210410T140000
DTEND;TZID=UTC+0:20210410T190000
DTSTAMP:20260420T055402
CREATED:20210322T101113Z
LAST-MODIFIED:20210322T101113Z
UID:2394-1618063200-1618081200@www.aifav.com.au
SUMMARY:VAISAKHI FESTIVAL
DESCRIPTION:AIFAV are proud to support “Organization to Encourage People and Step Towards Success aka OESS on their 1st Vaisakhi festival hosted in Melton. \n\nLet’s celebrate the Vaisakhi in a style.. It’s a free event pls do come and join us.. Covid safe plan in place. There is no ticket for the event but still u have to make the booking so that we can monitor the number of people attending the event \n\n
URL:https://www.aifav.com.au/event/vaisakhi-festival/
ATTACH;FMTTYPE=image/jpeg:https://www.aifav.com.au/wp-content/uploads/2021/03/received_445150653260014.jpeg
END:VEVENT
END:VCALENDAR